{
 "version": 1.0,
 "tileBundlesPath": "./tile",
 "storageInfo": {
  "packetSize": 128,
  "storageFormat": "esriMapCacheStorageModeCompactV2"
 },
 "tileImageInfo": {
  "format": "MIXED",
  "compressionQuality": 75,
  "bandCount": 1,
  "lercError": 0
 },
 "tileInfo": {
  "spatialReference": {
   "wkid": 102100,
   "latestWkid": 3857
  },
  "origin": {
   "x": -2.0037508342787E7,
   "y": 2.0037508342787E7
  },
  "rows": 256,
  "cols": 256,
  "dpi": 96,
  "lods": [
   {
    "level": 0,
    "resolution": 156543.033928,
    "scale": 5.91657527591555E8
   },
   {
    "level": 1,
    "resolution": 78271.5169639999,
    "scale": 2.95828763795777E8
   },
   {
    "level": 2,
    "resolution": 39135.7584820001,
    "scale": 1.47914381897889E8
   },
   {
    "level": 3,
    "resolution": 19567.8792409999,
    "scale": 7.3957190948944E7
   },
   {
    "level": 4,
    "resolution": 9783.93962049996,
    "scale": 3.6978595474472E7
   },
   {
    "level": 5,
    "resolution": 4891.96981024998,
    "scale": 1.8489297737236E7
   },
   {
    "level": 6,
    "resolution": 2445.98490512499,
    "scale": 9244648.868618
   },
   {
    "level": 7,
    "resolution": 1222.99245256249,
    "scale": 4622324.434309
   },
   {
    "level": 8,
    "resolution": 611.49622628138,
    "scale": 2311162.217155
   },
   {
    "level": 9,
    "resolution": 305.748113140558,
    "scale": 1155581.108577
   },
   {
    "level": 10,
    "resolution": 152.874056570411,
    "scale": 577790.554289
   },
   {
    "level": 11,
    "resolution": 76.4370282850732,
    "scale": 288895.277144
   },
   {
    "level": 12,
    "resolution": 38.2185141425366,
    "scale": 144447.638572
   },
   {
    "level": 13,
    "resolution": 19.1092570712683,
    "scale": 72223.819286
   },
   {
    "level": 14,
    "resolution": 9.55462853563415,
    "scale": 36111.909643
   },
   {
    "level": 15,
    "resolution": 4.77731426794937,
    "scale": 18055.954822
   },
   {
    "level": 16,
    "resolution": 2.38865713397468,
    "scale": 9027.977411
   },
   {
    "level": 17,
    "resolution": 1.19432856685505,
    "scale": 4513.988705
   },
   {
    "level": 18,
    "resolution": 0.597164283559817,
    "scale": 2256.994353
   },
   {
    "level": 19,
    "resolution": 0.298582141647617,
    "scale": 1128.497176
   },
   {
    "level": 20,
    "resolution": 0.14929107082380833,
    "scale": 564.248588
   },
   {
    "level": 21,
    "resolution": 0.07464553541190416,
    "scale": 282.124294
   },
   {
    "level": 22,
    "resolution": 0.03732276770595208,
    "scale": 141.062147
   },
   {
    "level": 23,
    "resolution": 0.01866138385297604,
    "scale": 70.5310735
   }
  ],
  "format": "MIXED",
  "compressionQuality": 75,
  "bandCount": 1,
  "lercError": 0,
  "storageFormat": "esriMapCacheStorageModeCompactV2",
  "packetSize": 128
 },
 "name": "Elevation_MZ",
 "serviceDescription": "",
 "spatialReference": {
  "wkid": 102100,
  "latestWkid": 3857,
  "xyTolerance": 0.001,
  "zTolerance": 0.001,
  "mTolerance": 0.001,
  "falseX": -20037700,
  "falseY": -30241100,
  "xyUnits": 10000,
  "falseZ": -100000,
  "zUnits": 10000,
  "falseM": -100000,
  "mUnits": 10000
 },
 "units": "esriMeters",
 "minLOD": 9,
 "maxLOD": 14,
 "resampling": true,
 "layers": [
  {
   "id": 8,
   "name": "DEMalospalsar12.5m_AOIbox_Mozambique.tif",
   "parentLayerId": -1,
   "defaultVisibility": true,
   "subLayerIds": null,
   "minScale": 0,
   "maxScale": 0,
   "type": "Raster Layer",
   "supportsDynamicLegends": true,
   "legend": [
    {
     "label": "< 0",
     "imageData": "iVBORw0KGgoAAAANSUhEUgAAABQAAAAUCAYAAACNiR0NAAAACXBIWXMAAA7EAAAOxAGVKw4bAAAAQElEQVQ4jWNhoDJgoZmBxff//6fEoF5FRkYUA6kFWEYNpBiwUG4EKhg1kHLAQgUzUMCogZQDeBjCyjOqGUgtAADsfwUBGEfrAQAAAABJRU5ErkJggg==",
     "contentType": "image/png",
     "groupId": "0",
     "height": 20,
     "width": 20,
     "layerId": 8,
     "layerName": "DEMalospalsar12.5m_AOIbox_Mozambique.tif"
    },
    {
     "label": "0 - 25",
     "imageData": "iVBORw0KGgoAAAANSUhEUgAAABQAAAAUCAYAAACNiR0NAAAACXBIWXMAAA7EAAAOxAGVKw4bAAAAQElEQVQ4jWNhoDJgoZmBkg0T/lNi0POGAkYUA6kFWEYNpBiwUG4EKhg1kHLAQgUzUMCogZQDeBjCyjOqGUgtAABSOQYpsRGTRwAAAABJRU5ErkJggg==",
     "contentType": "image/png",
     "groupId": "0",
     "height": 20,
     "width": 20,
     "layerId": 8,
     "layerName": "DEMalospalsar12.5m_AOIbox_Mozambique.tif"
    },
    {
     "label": "25 - 50",
     "imageData": "iVBORw0KGgoAAAANSUhEUgAAABQAAAAUCAYAAACNiR0NAAAACXBIWXMAAA7EAAAOxAGVKw4bAAAAQElEQVQ4jWNhoDJgoZmBYlsz/1Ni0Cvv6YwoBlILsIwaSDFgodwIVDBqIOWAhQpmoIBRAykH8DCElWdUM5BaAABOTQYeeSwRrQAAAABJRU5ErkJggg==",
     "contentType": "image/png",
     "groupId": "0",
     "height": 20,
     "width": 20,
     "layerId": 8,
     "layerName": "DEMalospalsar12.5m_AOIbox_Mozambique.tif"
    },
    {
     "label": "50 - 75",
     "imageData": "iVBORw0KGgoAAAANSUhEUgAAABQAAAAUCAYAAACNiR0NAAAACXBIWXMAAA7EAAAOxAGVKw4bAAAAQElEQVQ4jWNhoDJgoZmBCg8Y/lNi0AMFBkYUA6kFWEYNpBiwUG4EKhg1kHLAQgUzUMCogZQDeBjCyjOqGUgtAABhYARSuD+cTAAAAABJRU5ErkJggg==",
     "contentType": "image/png",
     "groupId": "0",
     "height": 20,
     "width": 20,
     "layerId": 8,
     "layerName": "DEMalospalsar12.5m_AOIbox_Mozambique.tif"
    },
    {
     "label": "75 - 100",
     "imageData": "iVBORw0KGgoAAAANSUhEUgAAABQAAAAUCAYAAACNiR0NAAAACXBIWXMAAA7EAAAOxAGVKw4bAAAAQElEQVQ4jWNhoDJgoZmB134x/KfEIC02BkYUA6kFWEYNpBiwUG4EKhg1kHLAQgUzUMCogZQDeBjCyjOqGUgtAAAZKgOCTp7iKwAAAABJRU5ErkJggg==",
     "contentType": "image/png",
     "groupId": "0",
     "height": 20,
     "width": 20,
     "layerId": 8,
     "layerName": "DEMalospalsar12.5m_AOIbox_Mozambique.tif"
    },
    {
     "label": "100 - 125",
     "imageData": "iVBORw0KGgoAAAANSUhEUgAAABQAAAAUCAYAAACNiR0NAAAACXBIWXMAAA7EAAAOxAGVKw4bAAAAQElEQVQ4jWNhoDJgoZmBX49x/6fEIG6rr4woBlILsIwaSDFgodwIVDBqIOWAhQpmoIBRAykH8DCElWdUM5BaAAAa4AWM6m7G4QAAAABJRU5ErkJggg==",
     "contentType": "image/png",
     "groupId": "0",
     "height": 20,
     "width": 20,
     "layerId": 8,
     "layerName": "DEMalospalsar12.5m_AOIbox_Mozambique.tif"
    },
    {
     "label": "125 - 150",
     "imageData": "iVBORw0KGgoAAAANSUhEUgAAABQAAAAUCAYAAACNiR0NAAAACXBIWXMAAA7EAAAOxAGVKw4bAAAAQElEQVQ4jWNhoDJgoZmBD5sV/1NikHztfUYUA6kFWEYNpBiwUG4EKhg1kHLAQgUzUMCogZQDeBjCyjOqGUgtAAAxYgXNpVe3IAAAAABJRU5ErkJggg==",
     "contentType": "image/png",
     "groupId": "0",
     "height": 20,
     "width": 20,
     "layerId": 8,
     "layerName": "DEMalospalsar12.5m_AOIbox_Mozambique.tif"
    },
    {
     "label": "150 - 173",
     "imageData": "iVBORw0KGgoAAAANSUhEUgAAABQAAAAUCAYAAACNiR0NAAAACXBIWXMAAA7EAAAOxAGVKw4bAAAAQElEQVQ4jWNhoDJgoZmBh4Js/lNikN26I4woBlILsIwaSDFgodwIVDBqIOWAhQpmoIBRAykH8DCElWdUM5BaAABD1AYC/DsVxAAAAABJRU5ErkJggg==",
     "contentType": "image/png",
     "groupId": "0",
     "height": 20,
     "width": 20,
     "layerId": 8,
     "layerName": "DEMalospalsar12.5m_AOIbox_Mozambique.tif"
    }
   ],
   "layerId": 8,
   "layerName": "DEMalospalsar12.5m_AOIbox_Mozambique.tif",
   "serviceItemId": "a2e984e835824fe3bab934866ff07d8e"
  }
 ],
 "initialExtent": {
  "xmin": 3624332.1880677305,
  "ymin": -2909201.107199535,
  "xmax": 3784332.1880677305,
  "ymax": -2764201.107199535,
  "spatialReference": {
   "wkid": 102100,
   "latestWkid": 3857,
   "xyTolerance": 0.001,
   "zTolerance": 0.001,
   "mTolerance": 0.001,
   "falseX": -20037700,
   "falseY": -30241100,
   "xyUnits": 10000,
   "falseZ": -100000,
   "zUnits": 10000,
   "falseM": -100000,
   "mUnits": 10000
  }
 },
 "fullExtent": {
  "xmin": 3624332.1880677305,
  "ymin": -2909201.107199535,
  "xmax": 3784332.1880677305,
  "ymax": -2764201.107199535,
  "spatialReference": {
   "wkid": 102100,
   "latestWkid": 3857,
   "xyTolerance": 0.001,
   "zTolerance": 0.001,
   "mTolerance": 0.001,
   "falseX": -20037700,
   "falseY": -30241100,
   "xyUnits": 10000,
   "falseZ": -100000,
   "zUnits": 10000,
   "falseM": -100000,
   "mUnits": 10000
  }
 },
 "minScale": 1155581.108577,
 "maxScale": 36111.909643,
 "exportTilesAllowed": false,
 "maxExportTilesCount": 0,
 "currentVersion": 10.9,
 "mapName": "Elevation_MZ",
 "singleFusedMapCache": true,
 "type": "MapServer",
 "supportedExtensions": "",
 "capabilities": "TilesOnly,Tilemap",
 "serviceItemId": "a2e984e835824fe3bab934866ff07d8e"
}
